BEGIN:VCALENDAR
VERSION:2.0
PRODID:-//ChamberMaster//Event Calendar 2.0//EN
METHOD:PUBLISH
X-PUBLISHED-TTL:P3D
REFRESH-INTERVAL:P3D
CALSCALE:GREGORIAN
BEGIN:VEVENT
DTSTART:20171115T163000Z
DTEND:20171115T173000Z
X-MICROSOFT-CDO-ALLDAYEVENT:FALSE
SUMMARY:2017 CHAMBER WIN : Engaging the Multi-Generational Workforce
DESCRIPTION:"Engaging the Multi-Generational Workforce" \n\n\n\npresented by:\n\n\n\nMichelle Scanlan\n\nDirector\, Human Resources \n\nUPMC Altoona & UPMC Bedford\n\n\n\n\n\n\n\n \n\n\n\nDOWNLOAD REGISTRATION FORM
X-ALT-DESC;FMTTYPE=text/html:<em>&quot\;Engaging the Multi-Generational Workforce&quot\;&nbsp\;</em><br />\n<br />\n<em>presented by:</em><br />\n<br />\n<b>Michelle Scanlan</b><br />\n<i>Director\, Human Resources&nbsp\;<br />\nUPMC Altoona &amp\; UPMC&nbsp\;Bedford</i><br />\n<br />\n<br />\n<br />\n&nbsp\;<br />\n<br />\n<strong style="font-size: 12.8000001907349px\; line-height: 16.6399993896484px\; text-align: center\;"><span style="font-size: 16px\;"><span style="color: rgb(255\, 0\, 0)\;"><span style="background-color: rgb(255\, 255\, 0)\;"><a href="https://chambermaster.blob.core.windows.net/userfiles/UserFiles/chambers/1328/File/17WINNovember1520171031101044.pdf">DOWNLOAD REGISTRATION FORM</a></span></span></span></strong><br />\n&nbsp\;
LOCATION:Sunnehanna Country Club
UID:e.1328.6923
SEQUENCE:3
DTSTAMP:20260423T062419Z
URL:http://crchamber.chambermaster.com/events/details/2017-chamber-win-engaging-the-multi-generational-workforce-6923
END:VEVENT

END:VCALENDAR
