BEGIN:VCALENDAR
VERSION:2.0
PRODID:-//ChamberMaster//Event Calendar 2.0//EN
METHOD:PUBLISH
X-PUBLISHED-TTL:P3D
REFRESH-INTERVAL:P3D
CALSCALE:GREGORIAN
BEGIN:VEVENT
DTSTART:20220713T220000Z
DTEND:20220714T000000Z
X-MICROSOFT-CDO-ALLDAYEVENT:FALSE
SUMMARY:Advanced Stained Glass
DESCRIPTION:Tis is a class for the intermediate and advanced students only. you'll be creating a free standing stained glass figure.
X-ALT-DESC;FMTTYPE=text/html:Tis is a class for the intermediate and advanced students only. you&#39\;ll be creating a free standing stained glass figure.&nbsp\;
LOCATION:1217 Menoher blvd. Johnstown PA15906
UID:e.1328.14290
SEQUENCE:3
DTSTAMP:20260424T054205Z
URL:http://crchamber.chambermaster.com/events/details/advanced-stained-glass-14290
END:VEVENT

END:VCALENDAR
